Package: SFEData Version: 1.12.0 Command: /home/biocbuild/bbs-3.22-bioc/R/bin/R CMD INSTALL SFEData StartedAt: 2025-11-06 10:56:38 -0500 (Thu, 06 Nov 2025) EndedAt: 2025-11-06 10:56:51 -0500 (Thu, 06 Nov 2025) EllapsedTime: 12.9 seconds RetCode: 0 Status: OK