Package: RnaSeqSampleSizeData Version: 1.42.0 Command: /home/biocbuild/bbs-3.22-bioc/R/bin/R CMD build --keep-empty-dirs --no-resave-data RnaSeqSampleSizeData StartedAt: 2025-11-06 11:38:34 -0500 (Thu, 06 Nov 2025) EndedAt: 2025-11-06 11:38:40 -0500 (Thu, 06 Nov 2025) EllapsedTime: 6.3 seconds RetCode: 0 Status: OK PackageFile: RnaSeqSampleSizeData_1.42.0.tar.gz PackageFileSize: 6.036 MiB