Package: RnBeads.rn5 Version: 1.42.0 Command: /home/biocbuild/bbs-3.22-bioc/R/bin/R CMD INSTALL RnBeads.rn5 StartedAt: 2025-11-06 10:57:56 -0500 (Thu, 06 Nov 2025) EndedAt: 2025-11-06 10:58:03 -0500 (Thu, 06 Nov 2025) EllapsedTime: 7.1 seconds RetCode: 0 Status: OK