Package: RnBeads.mm9 Version: 1.42.0 Command: /home/biocbuild/bbs-3.22-bioc/R/bin/R CMD INSTALL RnBeads.mm9 StartedAt: 2025-11-06 10:58:02 -0500 (Thu, 06 Nov 2025) EndedAt: 2025-11-06 10:58:09 -0500 (Thu, 06 Nov 2025) EllapsedTime: 7.0 seconds RetCode: 0 Status: OK