Package: RnBeads.mm9 Version: 1.42.0 Command: /home/biocbuild/bbs-3.22-bioc/R/bin/R CMD build --keep-empty-dirs --no-resave-data RnBeads.mm9 StartedAt: 2025-11-06 11:38:47 -0500 (Thu, 06 Nov 2025) EndedAt: 2025-11-06 11:38:54 -0500 (Thu, 06 Nov 2025) EllapsedTime: 6.6 seconds RetCode: 0 Status: OK PackageFile: RnBeads.mm9_1.42.0.tar.gz PackageFileSize: 94.41 MiB