Package: RnBeads.mm10 Version: 2.18.0 Command: /home/biocbuild/bbs-3.22-bioc/R/bin/R CMD INSTALL RnBeads.mm10 StartedAt: 2025-11-06 11:02:33 -0500 (Thu, 06 Nov 2025) EndedAt: 2025-11-06 11:02:41 -0500 (Thu, 06 Nov 2025) EllapsedTime: 7.2 seconds RetCode: 0 Status: OK