Package: RforProteomics Version: 1.48.0 Command: /home/biocbuild/bbs-3.22-bioc/R/bin/R CMD INSTALL RforProteomics StartedAt: 2025-11-06 11:00:13 -0500 (Thu, 06 Nov 2025) EndedAt: 2025-11-06 11:00:51 -0500 (Thu, 06 Nov 2025) EllapsedTime: 38.1 seconds RetCode: 0 Status: OK