Package: RforProteomics Version: 1.48.0 Maintainer: Laurent Gatto MaintainerEmail: laurent.gatto at uclouvain.be git_url: https://git.bioconductor.org/packages/RforProteomics git_branch: RELEASE_3_22 git_last_commit: eef7998 git_last_commit_date: 2025-10-29 09:33:45 -0400 (Wed, 29 Oct 2025)