Package: ReactomeGSA.data Version: 1.24.0 Command: /home/biocbuild/bbs-3.22-bioc/R/bin/R CMD INSTALL ReactomeGSA.data StartedAt: 2025-11-06 11:03:28 -0500 (Thu, 06 Nov 2025) EndedAt: 2025-11-06 11:03:47 -0500 (Thu, 06 Nov 2025) EllapsedTime: 18.4 seconds RetCode: 0 Status: OK