Package: ReactomeGSA.data Version: 1.24.0 Command: /home/biocbuild/bbs-3.22-bioc/R/bin/R CMD build --keep-empty-dirs --no-resave-data ReactomeGSA.data StartedAt: 2025-11-06 11:37:25 -0500 (Thu, 06 Nov 2025) EndedAt: 2025-11-06 11:38:47 -0500 (Thu, 06 Nov 2025) EllapsedTime: 81.6 seconds RetCode: 0 Status: OK PackageFile: ReactomeGSA.data_1.24.0.tar.gz PackageFileSize: 23.08 MiB