Package: RcisTarget.hg19.motifDBs.cisbpOnly.500bp Version: 1.30.0 Command: /home/biocbuild/bbs-3.22-bioc/R/bin/R CMD INSTALL RcisTarget.hg19.motifDBs.cisbpOnly.500bp StartedAt: 2025-11-06 10:55:57 -0500 (Thu, 06 Nov 2025) EndedAt: 2025-11-06 10:56:06 -0500 (Thu, 06 Nov 2025) EllapsedTime: 8.7 seconds RetCode: 0 Status: OK