Package: RUVnormalizeData Version: 1.30.0 Command: /home/biocbuild/bbs-3.22-bioc/R/bin/R CMD INSTALL RUVnormalizeData StartedAt: 2025-11-06 10:56:04 -0500 (Thu, 06 Nov 2025) EndedAt: 2025-11-06 10:56:06 -0500 (Thu, 06 Nov 2025) EllapsedTime: 1.7 seconds RetCode: 0 Status: OK