Package: RTCGA.rnaseq Version: 20151101.40.0 Command: /home/biocbuild/bbs-3.22-bioc/R/bin/R CMD INSTALL RTCGA.rnaseq StartedAt: 2025-11-06 11:04:14 -0500 (Thu, 06 Nov 2025) EndedAt: 2025-11-06 11:06:54 -0500 (Thu, 06 Nov 2025) EllapsedTime: 160.6 seconds RetCode: 0 Status: OK