Package: RTCGA.miRNASeq Version: 1.38.0 Command: /home/biocbuild/bbs-3.22-bioc/R/bin/R CMD INSTALL RTCGA.miRNASeq StartedAt: 2025-11-06 11:03:56 -0500 (Thu, 06 Nov 2025) EndedAt: 2025-11-06 11:05:43 -0500 (Thu, 06 Nov 2025) EllapsedTime: 106.1 seconds RetCode: 0 Status: OK