Package: RTCGA.mRNA Version: 1.38.0 Command: /home/biocbuild/bbs-3.22-bioc/R/bin/R CMD INSTALL RTCGA.mRNA StartedAt: 2025-11-06 11:04:13 -0500 (Thu, 06 Nov 2025) EndedAt: 2025-11-06 11:04:45 -0500 (Thu, 06 Nov 2025) EllapsedTime: 32.7 seconds RetCode: 0 Status: OK