Package: RTCGA.mRNA Version: 1.38.0 Command: /home/biocbuild/bbs-3.22-bioc/R/bin/R CMD build --keep-empty-dirs --no-resave-data RTCGA.mRNA StartedAt: 2025-11-06 11:39:32 -0500 (Thu, 06 Nov 2025) EndedAt: 2025-11-06 11:40:14 -0500 (Thu, 06 Nov 2025) EllapsedTime: 41.9 seconds RetCode: 0 Status: OK PackageFile: RTCGA.mRNA_1.38.0.tar.gz PackageFileSize: 84.98 MiB