Package: RTCGA.clinical Version: 20151101.40.0 Command: /home/biocbuild/bbs-3.22-bioc/R/bin/R CMD INSTALL RTCGA.clinical StartedAt: 2025-11-06 11:04:09 -0500 (Thu, 06 Nov 2025) EndedAt: 2025-11-06 11:04:51 -0500 (Thu, 06 Nov 2025) EllapsedTime: 41.9 seconds RetCode: 0 Status: OK