Package: RTCGA.RPPA Version: 1.38.0 Maintainer: Marcin Kosinski MaintainerEmail: m.p.kosinski at gmail.com git_url: https://git.bioconductor.org/packages/RTCGA.RPPA git_branch: RELEASE_3_22 git_last_commit: 1c3a1a7 git_last_commit_date: 2025-10-29 09:57:38 -0500 (Wed, 29 Oct 2025)