Package: RTCGA.PANCAN12 Version: 1.38.0 Command: /home/biocbuild/bbs-3.22-bioc/R/bin/R CMD build --keep-empty-dirs --no-resave-data RTCGA.PANCAN12 StartedAt: 2025-11-06 11:39:39 -0500 (Thu, 06 Nov 2025) EndedAt: 2025-11-06 11:40:04 -0500 (Thu, 06 Nov 2025) EllapsedTime: 25.3 seconds RetCode: 0 Status: OK PackageFile: RTCGA.PANCAN12_1.38.0.tar.gz PackageFileSize: 213.9 MiB