Package: RTCGA.PANCAN12 Version: 1.36.0 Command: /home/biocbuild/bbs-3.21-bioc/R/bin/R CMD INSTALL RTCGA.PANCAN12 StartedAt: 2025-09-30 10:58:07 -0400 (Tue, 30 Sep 2025) EndedAt: 2025-09-30 10:58:17 -0400 (Tue, 30 Sep 2025) EllapsedTime: 10.3 seconds RetCode: 0 Status: OK