Package: RTCGA.PANCAN12 Version: 1.36.0 Command: /home/biocbuild/bbs-3.21-bioc/R/bin/R CMD build --keep-empty-dirs --no-resave-data RTCGA.PANCAN12 StartedAt: 2025-09-30 11:37:01 -0400 (Tue, 30 Sep 2025) EndedAt: 2025-09-30 11:37:25 -0400 (Tue, 30 Sep 2025) EllapsedTime: 23.8 seconds RetCode: 0 Status: OK PackageFile: RTCGA.PANCAN12_1.36.0.tar.gz PackageFileSize: 213.9 MiB