Package: RRBSdata Version: 1.30.0 Command: /home/biocbuild/bbs-3.22-bioc/R/bin/R CMD build --keep-empty-dirs --no-resave-data RRBSdata StartedAt: 2025-11-06 11:38:54 -0500 (Thu, 06 Nov 2025) EndedAt: 2025-11-06 11:39:38 -0500 (Thu, 06 Nov 2025) EllapsedTime: 44.2 seconds RetCode: 0 Status: OK PackageFile: RRBSdata_1.30.0.tar.gz PackageFileSize: 73.93 MiB