Package: RNAseqData.HNRNPC.bam.chr14 Version: 0.48.0 Command: /home/biocbuild/bbs-3.22-bioc/R/bin/R CMD build --keep-empty-dirs --no-resave-data RNAseqData.HNRNPC.bam.chr14 StartedAt: 2025-11-06 11:38:28 -0500 (Thu, 06 Nov 2025) EndedAt: 2025-11-06 11:39:13 -0500 (Thu, 06 Nov 2025) EllapsedTime: 44.8 seconds RetCode: 0 Status: OK PackageFile: RNAseqData.HNRNPC.bam.chr14_0.48.0.tar.gz PackageFileSize: 332.5 MiB