Package: RNAmodR.Data Version: 1.24.0 Command: /home/biocbuild/bbs-3.22-bioc/R/bin/R CMD INSTALL RNAmodR.Data StartedAt: 2025-11-25 11:03:20 -0500 (Tue, 25 Nov 2025) EndedAt: 2025-11-25 11:03:58 -0500 (Tue, 25 Nov 2025) EllapsedTime: 37.8 seconds RetCode: 0 Status: OK