Package: RITANdata Version: 1.34.0 Command: /home/biocbuild/bbs-3.22-bioc/R/bin/R CMD build --keep-empty-dirs --no-resave-data RITANdata StartedAt: 2025-11-06 11:37:49 -0500 (Thu, 06 Nov 2025) EndedAt: 2025-11-06 11:38:28 -0500 (Thu, 06 Nov 2025) EllapsedTime: 38.7 seconds RetCode: 0 Status: OK PackageFile: RITANdata_1.34.0.tar.gz PackageFileSize: 7.415 MiB