Package: RGMQLlib Version: 1.30.0 Command: /home/biocbuild/bbs-3.22-bioc/R/bin/R CMD build --keep-empty-dirs --no-resave-data RGMQLlib StartedAt: 2025-11-06 11:37:37 -0500 (Thu, 06 Nov 2025) EndedAt: 2025-11-06 11:37:49 -0500 (Thu, 06 Nov 2025) EllapsedTime: 12.3 seconds RetCode: 0 Status: OK PackageFile: RGMQLlib_1.30.0.tar.gz PackageFileSize: 86.08 MiB