Package: QDNAseq.mm10 Version: 1.40.0 Command: /home/biocbuild/bbs-3.22-bioc/R/bin/R CMD INSTALL QDNAseq.mm10 StartedAt: 2025-11-06 11:02:29 -0500 (Thu, 06 Nov 2025) EndedAt: 2025-11-06 11:02:41 -0500 (Thu, 06 Nov 2025) EllapsedTime: 12.5 seconds RetCode: 0 Status: OK