Package: PtH2O2lipids Version: 1.36.0 Command: /home/biocbuild/bbs-3.22-bioc/R/bin/R CMD INSTALL PtH2O2lipids StartedAt: 2025-11-13 11:03:07 -0500 (Thu, 13 Nov 2025) EndedAt: 2025-11-13 11:03:55 -0500 (Thu, 13 Nov 2025) EllapsedTime: 48.6 seconds RetCode: 0 Status: OK