Package: PtH2O2lipids Version: 1.36.0 Command: /home/biocbuild/bbs-3.22-bioc/R/bin/R CMD build --keep-empty-dirs --no-resave-data PtH2O2lipids StartedAt: 2025-11-13 11:37:28 -0500 (Thu, 13 Nov 2025) EndedAt: 2025-11-13 11:37:30 -0500 (Thu, 13 Nov 2025) EllapsedTime: 2.0 seconds RetCode: 0 Status: OK PackageFile: PtH2O2lipids_1.36.0.tar.gz PackageFileSize: 15.48 MiB