Package: ProteinGymR Version: 1.4.0 Command: /home/biocbuild/bbs-3.22-bioc/R/bin/R CMD build --keep-empty-dirs --no-resave-data ProteinGymR StartedAt: 2025-11-06 11:36:39 -0500 (Thu, 06 Nov 2025) EndedAt: 2025-11-06 11:40:30 -0500 (Thu, 06 Nov 2025) EllapsedTime: 230.4 seconds RetCode: 0 Status: OK PackageFile: ProteinGymR_1.4.0.tar.gz PackageFileSize: 2.022 MiB