Package: PathNetData Version: 1.46.0 Command: /home/biocbuild/bbs-3.22-bioc/R/bin/R CMD build --keep-empty-dirs --no-resave-data PathNetData StartedAt: 2025-11-06 11:34:47 -0500 (Thu, 06 Nov 2025) EndedAt: 2025-11-06 11:34:49 -0500 (Thu, 06 Nov 2025) EllapsedTime: 2.0 seconds RetCode: 0 Status: OK PackageFile: PathNetData_1.46.0.tar.gz PackageFileSize: 2.427 MiB