Package: PasillaTranscriptExpr Version: 1.38.0 Command: /home/biocbuild/bbs-3.22-bioc/R/bin/R CMD build --keep-empty-dirs --no-resave-data PasillaTranscriptExpr StartedAt: 2025-11-06 11:34:46 -0500 (Thu, 06 Nov 2025) EndedAt: 2025-11-06 11:35:02 -0500 (Thu, 06 Nov 2025) EllapsedTime: 15.6 seconds RetCode: 0 Status: OK PackageFile: PasillaTranscriptExpr_1.38.0.tar.gz PackageFileSize: 784.1 KiB