Package: PREDAsampledata Version: 0.50.0 Command: /home/biocbuild/bbs-3.22-bioc/R/bin/R CMD INSTALL PREDAsampledata StartedAt: 2025-11-18 10:58:10 -0500 (Tue, 18 Nov 2025) EndedAt: 2025-11-18 10:58:33 -0500 (Tue, 18 Nov 2025) EllapsedTime: 23.2 seconds RetCode: 0 Status: OK