Package: PREDAsampledata Version: 0.50.0 Command: /home/biocbuild/bbs-3.22-bioc/R/bin/R CMD build --keep-empty-dirs --no-resave-data PREDAsampledata StartedAt: 2025-11-18 11:59:47 -0500 (Tue, 18 Nov 2025) EndedAt: 2025-11-18 12:00:07 -0500 (Tue, 18 Nov 2025) EllapsedTime: 19.6 seconds RetCode: 0 Status: OK PackageFile: PREDAsampledata_0.50.0.tar.gz PackageFileSize: 66.79 MiB