Package: OnassisJavaLibs Version: 1.32.0 Command: /home/biocbuild/bbs-3.22-bioc/R/bin/R CMD build --keep-empty-dirs --no-resave-data OnassisJavaLibs StartedAt: 2025-11-06 11:34:26 -0500 (Thu, 06 Nov 2025) EndedAt: 2025-11-06 11:34:37 -0500 (Thu, 06 Nov 2025) EllapsedTime: 11.3 seconds RetCode: 0 Status: OK PackageFile: OnassisJavaLibs_1.32.0.tar.gz PackageFileSize: 85.26 MiB