Package: ObMiTi Version: 1.18.0 Command: /home/biocbuild/bbs-3.22-bioc/R/bin/R CMD INSTALL ObMiTi StartedAt: 2025-11-06 10:58:22 -0500 (Thu, 06 Nov 2025) EndedAt: 2025-11-06 10:58:48 -0500 (Thu, 06 Nov 2025) EllapsedTime: 26.0 seconds RetCode: 0 Status: OK