Package: ObMiTi Version: 1.18.0 Command: /home/biocbuild/bbs-3.22-bioc/R/bin/R CMD build --keep-empty-dirs --no-resave-data ObMiTi StartedAt: 2025-11-06 11:34:04 -0500 (Thu, 06 Nov 2025) EndedAt: 2025-11-06 11:34:45 -0500 (Thu, 06 Nov 2025) EllapsedTime: 40.0 seconds RetCode: 0 Status: OK PackageFile: ObMiTi_1.18.0.tar.gz PackageFileSize: 46.72 KiB