Package: NxtIRFdata Version: 1.16.0 Command: /home/biocbuild/bbs-3.22-bioc/R/bin/R CMD build --keep-empty-dirs --no-resave-data NxtIRFdata StartedAt: 2025-11-06 11:34:02 -0500 (Thu, 06 Nov 2025) EndedAt: 2025-11-06 11:34:25 -0500 (Thu, 06 Nov 2025) EllapsedTime: 23.0 seconds RetCode: 0 Status: OK PackageFile: NxtIRFdata_1.16.0.tar.gz PackageFileSize: 317.9 KiB