Package: Neve2006 Version: 0.48.0 Command: /home/biocbuild/bbs-3.22-bioc/R/bin/R CMD INSTALL Neve2006 StartedAt: 2025-11-06 10:57:26 -0500 (Thu, 06 Nov 2025) EndedAt: 2025-11-06 10:57:42 -0500 (Thu, 06 Nov 2025) EllapsedTime: 16.3 seconds RetCode: 0 Status: OK