Package: NetActivityData Version: 1.12.0 Command: /home/biocbuild/bbs-3.22-bioc/R/bin/R CMD INSTALL NetActivityData StartedAt: 2025-11-06 10:55:53 -0500 (Thu, 06 Nov 2025) EndedAt: 2025-11-06 10:55:57 -0500 (Thu, 06 Nov 2025) EllapsedTime: 4.4 seconds RetCode: 0 Status: OK