Package: NanoporeRNASeq Version: 1.20.0 Command: /home/biocbuild/bbs-3.22-bioc/R/bin/R CMD build --keep-empty-dirs --no-resave-data NanoporeRNASeq StartedAt: 2025-11-13 11:33:40 -0500 (Thu, 13 Nov 2025) EndedAt: 2025-11-13 11:35:46 -0500 (Thu, 13 Nov 2025) EllapsedTime: 126.2 seconds RetCode: 0 Status: OK PackageFile: NanoporeRNASeq_1.20.0.tar.gz PackageFileSize: 234.7 KiB