Package: MouseThymusAgeing Version: 1.18.0 Command: /home/biocbuild/bbs-3.22-bioc/R/bin/R CMD build --keep-empty-dirs --no-resave-data MouseThymusAgeing StartedAt: 2025-11-06 11:31:19 -0500 (Thu, 06 Nov 2025) EndedAt: 2025-11-06 11:32:15 -0500 (Thu, 06 Nov 2025) EllapsedTime: 55.9 seconds RetCode: 0 Status: OK PackageFile: MouseThymusAgeing_1.18.0.tar.gz PackageFileSize: 311.4 KiB