Package: MouseGastrulationData Version: 1.24.0 Command: /home/biocbuild/bbs-3.22-bioc/R/bin/R CMD build --keep-empty-dirs --no-resave-data MouseGastrulationData StartedAt: 2025-11-06 11:31:15 -0500 (Thu, 06 Nov 2025) EndedAt: 2025-11-06 11:32:36 -0500 (Thu, 06 Nov 2025) EllapsedTime: 81.1 seconds RetCode: 0 Status: OK PackageFile: MouseGastrulationData_1.24.0.tar.gz PackageFileSize: 507.6 KiB