Package: MouseAgingData Version: 1.6.0 Command: /home/biocbuild/bbs-3.22-bioc/R/bin/R CMD build --keep-empty-dirs --no-resave-data MouseAgingData StartedAt: 2025-11-06 11:31:14 -0500 (Thu, 06 Nov 2025) EndedAt: 2025-11-06 11:32:24 -0500 (Thu, 06 Nov 2025) EllapsedTime: 70.0 seconds RetCode: 0 Status: OK PackageFile: MouseAgingData_1.6.0.tar.gz PackageFileSize: 1.349 MiB