Package: MouseAgingData Version: 1.6.0 Maintainer: Tram Nguyen MaintainerEmail: Tram_Nguyen at hms.harvard.edu git_url: https://git.bioconductor.org/packages/MouseAgingData git_branch: RELEASE_3_22 git_last_commit: 4ab18d8 git_last_commit_date: 2025-10-29 10:06:18 -0400 (Wed, 29 Oct 2025)