Package: MethylSeqData Version: 1.20.0 Command: /home/biocbuild/bbs-3.22-bioc/R/bin/R CMD INSTALL MethylSeqData StartedAt: 2025-11-06 10:59:40 -0500 (Thu, 06 Nov 2025) EndedAt: 2025-11-06 11:00:07 -0500 (Thu, 06 Nov 2025) EllapsedTime: 27.4 seconds RetCode: 0 Status: OK