Package: MethylSeqData Version: 1.20.0 Command: /home/biocbuild/bbs-3.22-bioc/R/bin/R CMD build --keep-empty-dirs --no-resave-data MethylSeqData StartedAt: 2025-11-06 11:30:14 -0500 (Thu, 06 Nov 2025) EndedAt: 2025-11-06 11:31:12 -0500 (Thu, 06 Nov 2025) EllapsedTime: 58.0 seconds RetCode: 0 Status: OK PackageFile: MethylSeqData_1.20.0.tar.gz PackageFileSize: 227 KiB