Package: MethylAidData Version: 1.42.0 Command: /home/biocbuild/bbs-3.22-bioc/R/bin/R CMD INSTALL MethylAidData StartedAt: 2025-11-06 11:01:20 -0500 (Thu, 06 Nov 2025) EndedAt: 2025-11-06 11:01:50 -0500 (Thu, 06 Nov 2025) EllapsedTime: 29.5 seconds RetCode: 0 Status: OK