Package: MetaScope Version: 1.10.0 Command: /home/biocbuild/bbs-3.22-bioc/R/bin/R CMD INSTALL MetaScope StartedAt: 2025-11-06 11:00:59 -0500 (Thu, 06 Nov 2025) EndedAt: 2025-11-06 11:01:09 -0500 (Thu, 06 Nov 2025) EllapsedTime: 9.5 seconds RetCode: 0 Status: OK