Package: MetaScope Version: 1.10.0 Command: /home/biocbuild/bbs-3.22-bioc/R/bin/R CMD build --keep-empty-dirs --no-resave-data MetaScope StartedAt: 2025-11-06 11:29:42 -0500 (Thu, 06 Nov 2025) EndedAt: 2025-11-06 11:38:33 -0500 (Thu, 06 Nov 2025) EllapsedTime: 531.1 seconds RetCode: 0 Status: OK PackageFile: MetaScope_1.10.0.tar.gz PackageFileSize: 3.689 MiB